BEGIN:VCALENDAR
PRODID:-//Microsoft Corporation//Outlook 12.0 MIMEDIR//EN
VERSION:2.0
CALSCALE:GREGORIAN
BEGIN:VEVENT
UID: a554e599-899d-4194-a82a-95c2887df912
SUMMARY:Teatrikülastus (7.c)
DTSTAMP:20260430
DTSTART:20260430
DTEND:20260501
DURATION:P1D
LOCATION:
DESCRIPTION: <p><span class="rHI1u allowTextSelection" title="7.c klass Tallinnas Noosooteatris &quot;Miks me varastasime auto?&quot;  (Küllike, Kristel M)" aria-label="Title">7.c klass Tallinna Noorsooteatris etendusel "Miks me varastasime auto?"</span></p><p><strong>Link: </strong>https://pk.edu.ee/et/sundmuste-kalender/teatrikulastus-7c</p><p><strong>Hind: </strong></p>
STATUS:CONFIRMED
SEQUENCE:3
X-ALT-DESC;FMTTYPE=text/html:<p><span class="rHI1u allowTextSelection" title="7.c klass Tallinnas Noosooteatris &quot;Miks me varastasime auto?&quot;  (Küllike, Kristel M)" aria-label="Title">7.c klass Tallinna Noorsooteatris etendusel "Miks me varastasime auto?"</span></p><p><strong>Link: </strong>https://pk.edu.ee/et/sundmuste-kalender/teatrikulastus-7c</p><p><strong>Hind: </strong></p>
X-MICROSOFT-CDO-BUSYSTATUS:OOF
X-MICROSOFT-CDO-IMPORTANCE:1
X-MICROSOFT-DISALLOW-COUNTER:FALSE
X-MS-OLK-ALLOWEXTERNCHECK:TRUE
X-MS-OLK-CONFTYPE:0
X-MICROSOFT-CDO-ALLDAYEVENT:1
X-MICROSOFT-MSNCALENDAR-ALLDAYEVENT:1
END:VEVENT
END:VCALENDAR