BEGIN:VCALENDAR
PRODID:-//Microsoft Corporation//Outlook 12.0 MIMEDIR//EN
VERSION:2.0
CALSCALE:GREGORIAN
BEGIN:VEVENT
UID: d59e9b61-177f-49b6-8d27-32f0d33d9707
SUMMARY:Pärnumaa MV korvpallis (1.-5. kl tüdrukud, valikõpilased)
DTSTAMP:20260423
DTSTART:20260423
DTEND:20260424
DURATION:P1D
LOCATION:
DESCRIPTION: <div class="SuF3p"><div class="hu4bZ"><span class="rHI1u allowTextSelection" aria-label="Title">Pärnumaa MV korvpallis (1.-5. kl tüdrukud, valik)</span></div></div><div class="VSXvP allowTextSelection"><div class="sPRuT">09.00-15.00</div></div><p><strong>Link: </strong>https://pk.edu.ee/et/sundmuste-kalender/parnumaa-mv-korvpallis-1-5-kl-tudrukud-valikopilased</p><p><strong>Hind: </strong></p>
STATUS:CONFIRMED
SEQUENCE:3
X-ALT-DESC;FMTTYPE=text/html:<div class="SuF3p"><div class="hu4bZ"><span class="rHI1u allowTextSelection" aria-label="Title">Pärnumaa MV korvpallis (1.-5. kl tüdrukud, valik)</span></div></div><div class="VSXvP allowTextSelection"><div class="sPRuT">09.00-15.00</div></div><p><strong>Link: </strong>https://pk.edu.ee/et/sundmuste-kalender/parnumaa-mv-korvpallis-1-5-kl-tudrukud-valikopilased</p><p><strong>Hind: </strong></p>
X-MICROSOFT-CDO-BUSYSTATUS:OOF
X-MICROSOFT-CDO-IMPORTANCE:1
X-MICROSOFT-DISALLOW-COUNTER:FALSE
X-MS-OLK-ALLOWEXTERNCHECK:TRUE
X-MS-OLK-CONFTYPE:0
X-MICROSOFT-CDO-ALLDAYEVENT:1
X-MICROSOFT-MSNCALENDAR-ALLDAYEVENT:1
END:VEVENT
END:VCALENDAR