BEGIN:VCALENDAR
PRODID:-//Microsoft Corporation//Outlook 12.0 MIMEDIR//EN
VERSION:2.0
CALSCALE:GREGORIAN
BEGIN:VEVENT
UID: 9bbece85-bae4-4e48-a5b2-6fe484ddafbf
SUMMARY:Põhikooli matemaatika lõpueksam (9. kl)
DTSTAMP:20260429
DTSTART:20260429
DTEND:20260430
DURATION:P1D
LOCATION:
DESCRIPTION: <p><span class="rHI1u allowTextSelection" aria-label="Title">9. klasside matemaatika lõpueksam</span></p><div class="VSXvP allowTextSelection"><div class="sPRuT">&nbsp;</div></div><p><strong>Link: </strong>https://pk.edu.ee/et/sundmuste-kalender/pohikooli-matemaatika-lopueksam-9-kl</p><p><strong>Hind: </strong></p>
STATUS:CONFIRMED
SEQUENCE:3
X-ALT-DESC;FMTTYPE=text/html:<p><span class="rHI1u allowTextSelection" aria-label="Title">9. klasside matemaatika lõpueksam</span></p><div class="VSXvP allowTextSelection"><div class="sPRuT">&nbsp;</div></div><p><strong>Link: </strong>https://pk.edu.ee/et/sundmuste-kalender/pohikooli-matemaatika-lopueksam-9-kl</p><p><strong>Hind: </strong></p>
X-MICROSOFT-CDO-BUSYSTATUS:OOF
X-MICROSOFT-CDO-IMPORTANCE:1
X-MICROSOFT-DISALLOW-COUNTER:FALSE
X-MS-OLK-ALLOWEXTERNCHECK:TRUE
X-MS-OLK-CONFTYPE:0
X-MICROSOFT-CDO-ALLDAYEVENT:1
X-MICROSOFT-MSNCALENDAR-ALLDAYEVENT:1
END:VEVENT
END:VCALENDAR