BEGIN:VCALENDAR
PRODID:-//Microsoft Corporation//Outlook 12.0 MIMEDIR//EN
VERSION:2.0
CALSCALE:GREGORIAN
BEGIN:VEVENT
UID: 959243ab-aa18-4f55-8f3f-24eb56b9bc01
SUMMARY:Muuseumikülastus (7.a)
DTSTAMP:20260401T141500
DTSTART:20260401T141500
DTEND:20260401T150000
LOCATION:
DESCRIPTION: <p><span class="rHI1u allowTextSelection" aria-label="Title">7.a klass muuseumis (Maalikunstnike Liidu aastanäitus)&nbsp;</span></p><div class="VSXvP allowTextSelection"><div class="sPRuT">&nbsp;</div></div><p><strong>Link: </strong>https://pk.edu.ee/et/sundmuste-kalender/muuseumikulastus-7a</p><p><strong>Hind: </strong></p>
STATUS:CONFIRMED
SEQUENCE:3
X-ALT-DESC;FMTTYPE=text/html:<p><span class="rHI1u allowTextSelection" aria-label="Title">7.a klass muuseumis (Maalikunstnike Liidu aastanäitus)&nbsp;</span></p><div class="VSXvP allowTextSelection"><div class="sPRuT">&nbsp;</div></div><p><strong>Link: </strong>https://pk.edu.ee/et/sundmuste-kalender/muuseumikulastus-7a</p><p><strong>Hind: </strong></p>
X-MICROSOFT-CDO-BUSYSTATUS:OOF
X-MICROSOFT-CDO-IMPORTANCE:1
X-MICROSOFT-DISALLOW-COUNTER:FALSE
X-MS-OLK-ALLOWEXTERNCHECK:TRUE
X-MS-OLK-CONFTYPE:0
X-MICROSOFT-CDO-ALLDAYEVENT:
X-MICROSOFT-MSNCALENDAR-ALLDAYEVENT:
END:VEVENT
END:VCALENDAR